BEGIN:VCALENDAR
VERSION:2.0
PRODID:-//WISE - ECPv6.15.20//NONSGML v1.0//EN
CALSCALE:GREGORIAN
METHOD:PUBLISH
X-ORIGINAL-URL:https://wise-materials.org
X-WR-CALDESC:Events for WISE
REFRESH-INTERVAL;VALUE=DURATION:PT1H
X-Robots-Tag:noindex
X-PUBLISHED-TTL:PT1H
BEGIN:VTIMEZONE
TZID:Europe/Stockholm
BEGIN:DAYLIGHT
TZOFFSETFROM:+0100
TZOFFSETTO:+0200
TZNAME:CEST
DTSTART:20250330T010000
END:DAYLIGHT
BEGIN:STANDARD
TZOFFSETFROM:+0200
TZOFFSETTO:+0100
TZNAME:CET
DTSTART:20251026T010000
END:STANDARD
BEGIN:DAYLIGHT
TZOFFSETFROM:+0100
TZOFFSETTO:+0200
TZNAME:CEST
DTSTART:20260329T010000
END:DAYLIGHT
BEGIN:STANDARD
TZOFFSETFROM:+0200
TZOFFSETTO:+0100
TZNAME:CET
DTSTART:20261025T010000
END:STANDARD
BEGIN:DAYLIGHT
TZOFFSETFROM:+0100
TZOFFSETTO:+0200
TZNAME:CEST
DTSTART:20270328T010000
END:DAYLIGHT
BEGIN:STANDARD
TZOFFSETFROM:+0200
TZOFFSETTO:+0100
TZNAME:CET
DTSTART:20271031T010000
END:STANDARD
BEGIN:DAYLIGHT
TZOFFSETFROM:+0100
TZOFFSETTO:+0200
TZNAME:CEST
DTSTART:20280326T010000
END:DAYLIGHT
BEGIN:STANDARD
TZOFFSETFROM:+0200
TZOFFSETTO:+0100
TZNAME:CET
DTSTART:20281029T010000
END:STANDARD
END:VTIMEZONE
BEGIN:VEVENT
DTSTART;VALUE=DATE:20260824
DTEND;VALUE=DATE:20260826
DTSTAMP:20260424T010230
CREATED:20251013T162303Z
LAST-MODIFIED:20260420T065751Z
UID:11610-1787529600-1787702399@wise-materials.org
SUMMARY:WISE Welcome Meeting 2026
DESCRIPTION:Vildmarkshotellet\, Kolmården \nThe WISE Welcome Meeting brings together all new members of the WISE Community for two days of presentations\, poster sessions\, and opportunities to connect with fellow participants. \nThis year’s meeting will take place at Vildmarkshotellet in Kolmården\, beautifully located next to the zoo and surrounded by nature. The setting offers the perfect combination of focus and relaxation\, making it easy to meet new colleagues and exchange ideas. \nThe program will feature presentations from WISE researchers and coordinators\, interactive poster sessions highlighting new projects and ideas\, and\, of course\, a social activity in Kolmården Zoo\, giving participants a chance to connect in a more informal and inspiring environment. \n👉 Click here to visit the event page and learn more.
URL:https://wise-materials.org/calendar/wise-welcome-meeting-2026-2/
LOCATION:Vildmarkshotellet\, Kolmården
CATEGORIES:Public Events
ATTACH;FMTTYPE=image/jpeg:https://wise-materials.org/wp-content/uploads/2025/10/Vildmarkshotellet86.jpg
END:VEVENT
BEGIN:VEVENT
DTSTART;VALUE=DATE:20261123
DTEND;VALUE=DATE:20261125
DTSTAMP:20260424T010230
CREATED:20251106T071348Z
LAST-MODIFIED:20260420T064124Z
UID:11901-1795392000-1795564799@wise-materials.org
SUMMARY:WISE Networking Days 2026
DESCRIPTION:We are pleased to announce that WISE Networking Days 2026 will take place on November 23–24\, 2026. \nThe event brings together academia and industry within the WISE Community to connect\, exchange ideas\, and build lasting partnerships. \nRead more about the event on our event page:Click here to take me to the WISE Networking Days 2026 event page.
URL:https://wise-materials.org/calendar/wise-networking-day-2026/
LOCATION:NÄST Innovation Destination Torslanda – Göteborg\, Sweden
CATEGORIES:Public Events
ATTACH;FMTTYPE=image/jpeg:https://wise-materials.org/wp-content/uploads/2025/11/NAST-Innovation-mindre.jpg
END:VEVENT
BEGIN:VEVENT
DTSTART;TZID=Europe/Stockholm:20270210T100000
DTEND;TZID=Europe/Stockholm:20270210T160000
DTSTAMP:20260424T010230
CREATED:20260421T135602Z
LAST-MODIFIED:20260421T135602Z
UID:13599-1802253600-1802275200@wise-materials.org
SUMMARY:WISE Board Meeting 2027-1
DESCRIPTION:
URL:https://wise-materials.org/calendar/wise-board-meeting-2027-1-2/
CATEGORIES:Public Events
END:VEVENT
BEGIN:VEVENT
DTSTART;TZID=Europe/Stockholm:20270413T090000
DTEND;TZID=Europe/Stockholm:20270413T150000
DTSTAMP:20260424T010230
CREATED:20260421T135731Z
LAST-MODIFIED:20260421T135731Z
UID:13603-1807606800-1807628400@wise-materials.org
SUMMARY:WISE Board Meeting 2027-2
DESCRIPTION:
URL:https://wise-materials.org/calendar/wise-board-meeting-2027-2-2/
CATEGORIES:Public Events
END:VEVENT
BEGIN:VEVENT
DTSTART;TZID=Europe/Stockholm:20270527T100000
DTEND;TZID=Europe/Stockholm:20270527T160000
DTSTAMP:20260424T010230
CREATED:20260421T135930Z
LAST-MODIFIED:20260421T135930Z
UID:13607-1811412000-1811433600@wise-materials.org
SUMMARY:WISE Board Meeting 2027-3
DESCRIPTION:
URL:https://wise-materials.org/calendar/wise-board-meeting-2027-3-2/
CATEGORIES:Public Events
END:VEVENT
BEGIN:VEVENT
DTSTART;TZID=Europe/Stockholm:20271012T090000
DTEND;TZID=Europe/Stockholm:20271012T150000
DTSTAMP:20260424T010230
CREATED:20260421T140100Z
LAST-MODIFIED:20260421T140100Z
UID:13611-1823331600-1823353200@wise-materials.org
SUMMARY:WISE Board Meeting 2027-5
DESCRIPTION:
URL:https://wise-materials.org/calendar/wise-board-meeting-2027-5-2/
CATEGORIES:Public Events
END:VEVENT
BEGIN:VEVENT
DTSTART;TZID=Europe/Stockholm:20271118T100000
DTEND;TZID=Europe/Stockholm:20271118T160000
DTSTAMP:20260424T010230
CREATED:20260421T140213Z
LAST-MODIFIED:20260421T140213Z
UID:13615-1826532000-1826553600@wise-materials.org
SUMMARY:WISE Board Meeting 2027-6
DESCRIPTION:
URL:https://wise-materials.org/calendar/wise-board-meeting-2027-6-2/
CATEGORIES:Public Events
END:VEVENT
END:VCALENDAR