BEGIN:VCALENDAR
VERSION:2.0
PRODID:-//WISE - ECPv6.15.20//NONSGML v1.0//EN
CALSCALE:GREGORIAN
METHOD:PUBLISH
X-WR-CALNAME:WISE
X-ORIGINAL-URL:https://wise-materials.org
X-WR-CALDESC:Events for WISE
REFRESH-INTERVAL;VALUE=DURATION:PT1H
X-Robots-Tag:noindex
X-PUBLISHED-TTL:PT1H
BEGIN:VTIMEZONE
TZID:Europe/Stockholm
BEGIN:DAYLIGHT
TZOFFSETFROM:+0100
TZOFFSETTO:+0200
TZNAME:CEST
DTSTART:20240331T010000
END:DAYLIGHT
BEGIN:STANDARD
TZOFFSETFROM:+0200
TZOFFSETTO:+0100
TZNAME:CET
DTSTART:20241027T010000
END:STANDARD
BEGIN:DAYLIGHT
TZOFFSETFROM:+0100
TZOFFSETTO:+0200
TZNAME:CEST
DTSTART:20250330T010000
END:DAYLIGHT
BEGIN:STANDARD
TZOFFSETFROM:+0200
TZOFFSETTO:+0100
TZNAME:CET
DTSTART:20251026T010000
END:STANDARD
BEGIN:DAYLIGHT
TZOFFSETFROM:+0100
TZOFFSETTO:+0200
TZNAME:CEST
DTSTART:20260329T010000
END:DAYLIGHT
BEGIN:STANDARD
TZOFFSETFROM:+0200
TZOFFSETTO:+0100
TZNAME:CET
DTSTART:20261025T010000
END:STANDARD
END:VTIMEZONE
BEGIN:VEVENT
DTSTART;TZID=Europe/Stockholm:20251020T123000
DTEND;TZID=Europe/Stockholm:20251020T170000
DTSTAMP:20260423T105557
CREATED:20251013T085404Z
LAST-MODIFIED:20251013T085404Z
UID:11597-1760963400-1760979600@wise-materials.org
SUMMARY:Driving Next-Generation Water Solutions
DESCRIPTION:Kick-Off Workshop Invitation\nThe The Swedish Research Council funded excellence cluster project NEW-WATER aims to bring together experts and stakeholders to address one of the world’s most urgent challenges: water contamination by complex and persistent pollutants. \nWhen: October 20\, 2025\nWhere: Chalmers (Hybrid participation available) \nRegister here\, last sign up date October 15\, 2025. \n 
URL:https://wise-materials.org/calendar/driving-next-generation-water-solutions/
CATEGORIES:Public Events
END:VEVENT
END:VCALENDAR