BEGIN:VCALENDAR
VERSION:2.0
PRODID:-//WISE - ECPv6.15.20//NONSGML v1.0//EN
CALSCALE:GREGORIAN
METHOD:PUBLISH
X-WR-CALNAME:WISE
X-ORIGINAL-URL:https://wise-materials.org
X-WR-CALDESC:Events for WISE
REFRESH-INTERVAL;VALUE=DURATION:PT1H
X-Robots-Tag:noindex
X-PUBLISHED-TTL:PT1H
BEGIN:VTIMEZONE
TZID:Europe/Stockholm
BEGIN:DAYLIGHT
TZOFFSETFROM:+0100
TZOFFSETTO:+0200
TZNAME:CEST
DTSTART:20240331T010000
END:DAYLIGHT
BEGIN:STANDARD
TZOFFSETFROM:+0200
TZOFFSETTO:+0100
TZNAME:CET
DTSTART:20241027T010000
END:STANDARD
BEGIN:DAYLIGHT
TZOFFSETFROM:+0100
TZOFFSETTO:+0200
TZNAME:CEST
DTSTART:20250330T010000
END:DAYLIGHT
BEGIN:STANDARD
TZOFFSETFROM:+0200
TZOFFSETTO:+0100
TZNAME:CET
DTSTART:20251026T010000
END:STANDARD
BEGIN:DAYLIGHT
TZOFFSETFROM:+0100
TZOFFSETTO:+0200
TZNAME:CEST
DTSTART:20260329T010000
END:DAYLIGHT
BEGIN:STANDARD
TZOFFSETFROM:+0200
TZOFFSETTO:+0100
TZNAME:CET
DTSTART:20261025T010000
END:STANDARD
END:VTIMEZONE
BEGIN:VEVENT
DTSTART;TZID=Europe/Stockholm:20250908T140000
DTEND;TZID=Europe/Stockholm:20250908T150000
DTSTAMP:20260423T122431
CREATED:20250812T124920Z
LAST-MODIFIED:20250812T124920Z
UID:10791-1757340000-1757343600@wise-materials.org
SUMMARY:Information webinar on KAW Proof of Concept Grants in Materials Science for Sustainability 2025
DESCRIPTION:Interested in funding for commercializing your materials science research?Don’t miss the upcoming webinar on the 2025 KAW Proof of Concept Grants in Materials Science for Sustainability! \n\nWebinar Date: September 8\, 2025\nTime: 14.00–15.00 (CEST)\nFormat: Online\n\nThe webinar is intended for researchers funded by the Knut and Alice Wallenberg Foundation and/or other Wallenberg Foundations at Swedish universities\, who are exploring ways to bridge the gap between academic research and innovation. \nRegister and learn more about the webinar here.
URL:https://wise-materials.org/calendar/information-webinar-on-kaw-proof-of-concept-grants-in-materials-science-for-sustainability-2025/
CATEGORIES:Public Events
END:VEVENT
END:VCALENDAR