BEGIN:VCALENDAR
VERSION:2.0
PRODID:-//WISE - ECPv6.15.20//NONSGML v1.0//EN
CALSCALE:GREGORIAN
METHOD:PUBLISH
X-WR-CALNAME:WISE
X-ORIGINAL-URL:https://wise-materials.org
X-WR-CALDESC:Events for WISE
REFRESH-INTERVAL;VALUE=DURATION:PT1H
X-Robots-Tag:noindex
X-PUBLISHED-TTL:PT1H
BEGIN:VTIMEZONE
TZID:Europe/Stockholm
BEGIN:DAYLIGHT
TZOFFSETFROM:+0100
TZOFFSETTO:+0200
TZNAME:CEST
DTSTART:20240331T010000
END:DAYLIGHT
BEGIN:STANDARD
TZOFFSETFROM:+0200
TZOFFSETTO:+0100
TZNAME:CET
DTSTART:20241027T010000
END:STANDARD
BEGIN:DAYLIGHT
TZOFFSETFROM:+0100
TZOFFSETTO:+0200
TZNAME:CEST
DTSTART:20250330T010000
END:DAYLIGHT
BEGIN:STANDARD
TZOFFSETFROM:+0200
TZOFFSETTO:+0100
TZNAME:CET
DTSTART:20251026T010000
END:STANDARD
BEGIN:DAYLIGHT
TZOFFSETFROM:+0100
TZOFFSETTO:+0200
TZNAME:CEST
DTSTART:20260329T010000
END:DAYLIGHT
BEGIN:STANDARD
TZOFFSETFROM:+0200
TZOFFSETTO:+0100
TZNAME:CET
DTSTART:20261025T010000
END:STANDARD
END:VTIMEZONE
BEGIN:VEVENT
DTSTART;TZID=Europe/Stockholm:20250823T080000
DTEND;TZID=Europe/Stockholm:20250824T170000
DTSTAMP:20260423T140559
CREATED:20250821T105608Z
LAST-MODIFIED:20250821T115259Z
UID:10920-1755936000-1756054800@wise-materials.org
SUMMARY:SAVE THE DATE: AI in the Plastics Industry – Join Us at Husqvarna!
DESCRIPTION:📅 September 23–24\, 2025\n📍 Husqvarna\, Sweden \nWIRA-SuPRA invites you to two inspiring event days focused on the theme:\n“AI in the Plastics Industry”. \nExplore how artificial intelligence is transforming product development\, boosting production efficiency\, and reshaping plastic flows in Sweden. Gain insights\, share ideas\, and connect with industry professionals in a dynamic and engaging setting. \n🧠 Topics include: \n\nSmarter product development with AI\nOptimizing production through AI\nPlastic material flows in Sweden\n…and much more!\n\n✨ Plenty of time for networking and mingling! \n🕛 The event kicks off with lunch on September 23 and wraps up with an exclusive factory tour at Husqvarna on the afternoon of September 24. \n📄 Please register here.
URL:https://wise-materials.org/calendar/save-the-date-ai-in-the-plastics-industry-join-us-at-husqvarna-2-2/
CATEGORIES:Public Events
END:VEVENT
END:VCALENDAR