BEGIN:VCALENDAR
VERSION:2.0
PRODID:-//WISE - ECPv6.15.20//NONSGML v1.0//EN
CALSCALE:GREGORIAN
METHOD:PUBLISH
X-WR-CALNAME:WISE
X-ORIGINAL-URL:https://wise-materials.org
X-WR-CALDESC:Events for WISE
REFRESH-INTERVAL;VALUE=DURATION:PT1H
X-Robots-Tag:noindex
X-PUBLISHED-TTL:PT1H
BEGIN:VTIMEZONE
TZID:Europe/Stockholm
BEGIN:DAYLIGHT
TZOFFSETFROM:+0100
TZOFFSETTO:+0200
TZNAME:CEST
DTSTART:20250330T010000
END:DAYLIGHT
BEGIN:STANDARD
TZOFFSETFROM:+0200
TZOFFSETTO:+0100
TZNAME:CET
DTSTART:20251026T010000
END:STANDARD
BEGIN:DAYLIGHT
TZOFFSETFROM:+0100
TZOFFSETTO:+0200
TZNAME:CEST
DTSTART:20260329T010000
END:DAYLIGHT
BEGIN:STANDARD
TZOFFSETFROM:+0200
TZOFFSETTO:+0100
TZNAME:CET
DTSTART:20261025T010000
END:STANDARD
BEGIN:DAYLIGHT
TZOFFSETFROM:+0100
TZOFFSETTO:+0200
TZNAME:CEST
DTSTART:20270328T010000
END:DAYLIGHT
BEGIN:STANDARD
TZOFFSETFROM:+0200
TZOFFSETTO:+0100
TZNAME:CET
DTSTART:20271031T010000
END:STANDARD
END:VTIMEZONE
BEGIN:VEVENT
DTSTART;TZID=Europe/Stockholm:20260507T150000
DTEND;TZID=Europe/Stockholm:20260507T160000
DTSTAMP:20260423T030543
CREATED:20251128T075754Z
LAST-MODIFIED:20260422T134842Z
UID:12205-1778166000-1778169600@wise-materials.org
SUMMARY:WISE Invited Professor Lecture: Professor Carsten Gachot\, LTU & Professor Yen-Chieh Huang\, KTH
DESCRIPTION:Don’t miss this opportunity to hear from two world-leading researchers. The digital seminar takes place 3-4 pm on May 7\, 2026. \n\nProfessor Carsten Gachot\, WISE Invited Professor at LTU: The Fascinating World of Tribology – From Textured Surfaces to High-Performing 2D Materials for Aerospace Applications.\nProfessor Yen-Chieh Huang\, WISE Invited Professor at KTH – Smaller Machine for Bigger Science – chip-size particle accelerator and radiator.\n\nRegister here
URL:https://wise-materials.org/calendar/wise-guest-professor-lecture-8/
LOCATION:Digital event
CATEGORIES:Public Events
ATTACH;FMTTYPE=image/jpeg:https://wise-materials.org/wp-content/uploads/2025/11/Webinar.jpg
END:VEVENT
BEGIN:VEVENT
DTSTART;TZID=Europe/Stockholm:20260513T130000
DTEND;TZID=Europe/Stockholm:20260513T150000
DTSTAMP:20260423T030543
CREATED:20260323T141904Z
LAST-MODIFIED:20260417T071709Z
UID:13118-1778677200-1778684400@wise-materials.org
SUMMARY:Unlock the Power of Sustainability with WISE ASSIST – Join Our Webinar no 2
DESCRIPTION:Are you preparing a proposal for WISE-ap3? Make sure you’re fully equipped to meet its strong sustainability ambitions. \nTo support applicants\, the WISE ASSIST tool provides a structured methodology to effectively address sustainability aspects in your proposal—now a mandatory component of the application process. \nTo help you get the most out of WISE ASSIST\, we’re hosting two interactive webinars where you’ll learn how to apply the tool and strengthen your proposal: \n\n13 May 13:00–15:00 CET\n\nDon’t miss this opportunity to enhance your proposal and align with WISE-ap3’s sustainability vision. Secure your place now and take your application to the next level. \nRegister here. 
URL:https://wise-materials.org/calendar/unlock-the-power-of-sustainability-with-wise-assist-join-our-webinar-no-2/
CATEGORIES:Public Events
END:VEVENT
END:VCALENDAR