BEGIN:VCALENDAR
VERSION:2.0
PRODID:-//WISE - ECPv6.15.20//NONSGML v1.0//EN
CALSCALE:GREGORIAN
METHOD:PUBLISH
X-ORIGINAL-URL:https://wise-materials.org
X-WR-CALDESC:Events for WISE
REFRESH-INTERVAL;VALUE=DURATION:PT1H
X-Robots-Tag:noindex
X-PUBLISHED-TTL:PT1H
BEGIN:VTIMEZONE
TZID:Europe/Stockholm
BEGIN:DAYLIGHT
TZOFFSETFROM:+0100
TZOFFSETTO:+0200
TZNAME:CEST
DTSTART:20240331T010000
END:DAYLIGHT
BEGIN:STANDARD
TZOFFSETFROM:+0200
TZOFFSETTO:+0100
TZNAME:CET
DTSTART:20241027T010000
END:STANDARD
BEGIN:DAYLIGHT
TZOFFSETFROM:+0100
TZOFFSETTO:+0200
TZNAME:CEST
DTSTART:20250330T010000
END:DAYLIGHT
BEGIN:STANDARD
TZOFFSETFROM:+0200
TZOFFSETTO:+0100
TZNAME:CET
DTSTART:20251026T010000
END:STANDARD
BEGIN:DAYLIGHT
TZOFFSETFROM:+0100
TZOFFSETTO:+0200
TZNAME:CEST
DTSTART:20260329T010000
END:DAYLIGHT
BEGIN:STANDARD
TZOFFSETFROM:+0200
TZOFFSETTO:+0100
TZNAME:CET
DTSTART:20261025T010000
END:STANDARD
END:VTIMEZONE
BEGIN:VEVENT
DTSTART;TZID=Europe/Stockholm:20251002T090000
DTEND;TZID=Europe/Stockholm:20251002T160000
DTSTAMP:20260423T092456
CREATED:20250808T112402Z
LAST-MODIFIED:20250916T151409Z
UID:10740-1759395600-1759420800@wise-materials.org
SUMMARY:Inauguration of AM@Chalmers and WISE Additive node at Chalmers
DESCRIPTION:Welcome to the inauguration of the AM@Chalmers and WISE Additive node at Chalmers. This open research infrastructure aims to accelerate the development and implementation of sustainable additive manufacturing\, enabled by state-of-the-art\, powder-based metal additive manufacturing technologies. \nFor more information and registration. 
URL:https://wise-materials.org/calendar/inauguration-of-amchalmers-and-wise-additive-node-at-chalmers-2/
LOCATION:Chalmers University\, Gothenburg
CATEGORIES:Public Events
END:VEVENT
BEGIN:VEVENT
DTSTART;TZID=Europe/Stockholm:20251002T150000
DTEND;TZID=Europe/Stockholm:20251002T160000
DTSTAMP:20260423T092456
CREATED:20250917T121433Z
LAST-MODIFIED:20250924T085148Z
UID:11243-1759417200-1759420800@wise-materials.org
SUMMARY:WISE Guest Professor Lecture: Professor Johan Hjelm & Professor Yury Gogotsi
DESCRIPTION:Don’t miss this opportunity to hear from two world-leading researchers in the field of sustainable energy materials and storage technologies. The digital seminar takes place 3-4 pm on October 2\, 2025. \n\nProfessor Johan Hjelm will present:“Towards Sustainable Flow Battery Based Energy Storage”Explore the role of redox flow batteries in addressing the growing need for stationary energy storage\, with insights into the latest research on organic electrolytes\, reactor design\, and membrane technologies.\nProfessor Yury Gogotsi will present:“How MXenes and Other 2D Materials Can Contribute to Our Sustainable Future”Discover how MXenes and other 2D materials are shaping the future of sustainable technologies through innovations in energy\, water\, and material science.\n\n👉 Register here to secure your spot.
URL:https://wise-materials.org/calendar/wise-guest-professor-lecture-professor-johan-hjelm-professor-yury-gogotsi/
LOCATION:Digital event
CATEGORIES:Public Events
END:VEVENT
BEGIN:VEVENT
DTSTART;VALUE=DATE:20251015
DTEND;VALUE=DATE:20251016
DTSTAMP:20260423T092456
CREATED:20250212T125631Z
LAST-MODIFIED:20250212T125631Z
UID:9297-1760486400-1760572799@wise-materials.org
SUMMARY:WISE Board Meeting 2025-5
DESCRIPTION:
URL:https://wise-materials.org/calendar/wise-board-meeting-2025-5-2/
CATEGORIES:Public Events
END:VEVENT
BEGIN:VEVENT
DTSTART;TZID=Europe/Stockholm:20251020T123000
DTEND;TZID=Europe/Stockholm:20251020T170000
DTSTAMP:20260423T092456
CREATED:20251013T085404Z
LAST-MODIFIED:20251013T085404Z
UID:11597-1760963400-1760979600@wise-materials.org
SUMMARY:Driving Next-Generation Water Solutions
DESCRIPTION:Kick-Off Workshop Invitation\nThe The Swedish Research Council funded excellence cluster project NEW-WATER aims to bring together experts and stakeholders to address one of the world’s most urgent challenges: water contamination by complex and persistent pollutants. \nWhen: October 20\, 2025\nWhere: Chalmers (Hybrid participation available) \nRegister here\, last sign up date October 15\, 2025. \n 
URL:https://wise-materials.org/calendar/driving-next-generation-water-solutions/
CATEGORIES:Public Events
END:VEVENT
BEGIN:VEVENT
DTSTART;TZID=Europe/Stockholm:20251022T130000
DTEND;TZID=Europe/Stockholm:20251022T140000
DTSTAMP:20260423T092456
CREATED:20251016T111256Z
LAST-MODIFIED:20251016T113352Z
UID:11647-1761138000-1761141600@wise-materials.org
SUMMARY:Webinar – Exciting Collaboration Opportunity: WACQT–WISE Pilot Call 2025
DESCRIPTION:You will learn more about this unique funding opportunity and how it aims to strengthen collaboration between the Wallenberg Centre for Quantum Technology (WACQT) and Wallenberg Initiative Materials Science for Sustainability (WISE). \nDate: 22 October 2025\nTime: 13:00–14:00 \nSpeakers: \n\nGöran Johansson\, Director of WACQT\nMagnus Berggren\, Director of WISE\nOlle Eriksson\, Co-director WISE\n\nJoin us to hear directly from the program directors about the goals of the pilot call\, opportunities for joint research\, and how to get involved. \nRegister here \nLet’s build new bridges between quantum technology and sustainable materials science — together towards a smarter\, greener future!
URL:https://wise-materials.org/calendar/webinar-exciting-collaboration-opportunity-wacqt-wise-pilot-call-2025/
CATEGORIES:Public Events
END:VEVENT
END:VCALENDAR