BEGIN:VCALENDAR
VERSION:2.0
PRODID:-//WISE - ECPv6.15.20//NONSGML v1.0//EN
CALSCALE:GREGORIAN
METHOD:PUBLISH
X-WR-CALNAME:WISE
X-ORIGINAL-URL:https://wise-materials.org
X-WR-CALDESC:Events for WISE
REFRESH-INTERVAL;VALUE=DURATION:PT1H
X-Robots-Tag:noindex
X-PUBLISHED-TTL:PT1H
BEGIN:VTIMEZONE
TZID:Europe/Stockholm
BEGIN:DAYLIGHT
TZOFFSETFROM:+0100
TZOFFSETTO:+0200
TZNAME:CEST
DTSTART:20240331T010000
END:DAYLIGHT
BEGIN:STANDARD
TZOFFSETFROM:+0200
TZOFFSETTO:+0100
TZNAME:CET
DTSTART:20241027T010000
END:STANDARD
BEGIN:DAYLIGHT
TZOFFSETFROM:+0100
TZOFFSETTO:+0200
TZNAME:CEST
DTSTART:20250330T010000
END:DAYLIGHT
BEGIN:STANDARD
TZOFFSETFROM:+0200
TZOFFSETTO:+0100
TZNAME:CET
DTSTART:20251026T010000
END:STANDARD
BEGIN:DAYLIGHT
TZOFFSETFROM:+0100
TZOFFSETTO:+0200
TZNAME:CEST
DTSTART:20260329T010000
END:DAYLIGHT
BEGIN:STANDARD
TZOFFSETFROM:+0200
TZOFFSETTO:+0100
TZNAME:CET
DTSTART:20261025T010000
END:STANDARD
END:VTIMEZONE
BEGIN:VEVENT
DTSTART;TZID=Europe/Stockholm:20250820T080000
DTEND;TZID=Europe/Stockholm:20250820T170000
DTSTAMP:20260423T122300
CREATED:20250618T115815Z
LAST-MODIFIED:20250618T115815Z
UID:10533-1755676800-1755709200@wise-materials.org
SUMMARY:Kickoff Meeting to Help Shape Sweden’s Roadmap for Advanced Materials
DESCRIPTION:Do you want to help shape how Sweden invests in advanced materials?Now\, eight innovation programs are coming together to create a new roadmap – a powerful guide to how advanced materials can drive real change and shape the future. \nEurope is making major investments. Sweden has the expertise – but we need your insights to take the lead. This is your chance to help shape the roadmap that will guide how we tackle shared challenges and seize new opportunities. You’ll get to: \n\n\nHelp set the direction of the roadmap \n\n\nHighlight what’s working\, what’s missing\, and what needs to happen now \n\n\nInfluence how advanced materials become an even stronger innovation area in Sweden \n\n\nOn August 20th from 09:00 to 10:00\, we’ll kick off the roadmap work with a digital information meeting. There\, you’ll get answers about how the work will be organized this fall and have the chance to ask questions. Key figures from industry\, academia\, and the public sector will participate – and they want you to be part of the conversation.You can register for the August 20th info meeting via this link. \nKick-off Meeting for the New Advanced Materials Roadmap📅 Date: August 20🕒 Time: 09:00–10:00📍 Location: Digital🔗 Register here!
URL:https://wise-materials.org/calendar/kickoff-meeting-to-help-shape-swedens-roadmap-for-advanced-materials/
CATEGORIES:Public Events
END:VEVENT
BEGIN:VEVENT
DTSTART;TZID=Europe/Stockholm:20250820T080000
DTEND;TZID=Europe/Stockholm:20250821T170000
DTSTAMP:20260423T122300
CREATED:20241028T093246Z
LAST-MODIFIED:20250603T110235Z
UID:8140-1755676800-1755795600@wise-materials.org
SUMMARY:Join us at Welcome Meeting 2025
DESCRIPTION:Mark your calendar for August 20-21\, 2025! \nJoin us in Norrköping for the WISE Welcome Meeting—a special event for all newcomers to the WISE community. This two-day gathering is designed to introduce you to the WISE organization and its vibrant network. Here’s your chance to connect with peers\, learn about one another’s projects\, and dive into the exciting offerings of the WISE Research School\, including exclusive courses\, summer schools\, and study trips. \nYou’ll also hear from industry leaders and the newly established WIRAs\, gaining insights to inspire and enrich your journey. New PhD students and postdocs will showcase their work through project pitches and poster sessions\, giving everyone a firsthand look at the innovative ideas shaping WISE. \nThis is a key event for all newcomers\, and attendance is expected. We highly recommend that you attend as soon as possible\, as it will provide you with a comprehensive introduction to the WISE program\, the research school\, and the wider WISE community. Don’t miss out on this fantastic opportunity to connect\, learn\, and have a blast! \nStay tuned for more details—we’ll be updating this page regularly! Don’t miss out on this unique start to your WISE experience!\nA personal invitation to our exciting Welcome Meeting will be hitting your email inbox soon! \nInformation about Program \nPractical information \nPoster Session: Information and Guidelines – TBA
URL:https://wise-materials.org/calendar/welcome-meeting-2025-2/
CATEGORIES:Public Events
END:VEVENT
BEGIN:VEVENT
DTSTART;TZID=Europe/Stockholm:20250823T080000
DTEND;TZID=Europe/Stockholm:20250824T170000
DTSTAMP:20260423T122300
CREATED:20250821T105608Z
LAST-MODIFIED:20250821T115259Z
UID:10920-1755936000-1756054800@wise-materials.org
SUMMARY:SAVE THE DATE: AI in the Plastics Industry – Join Us at Husqvarna!
DESCRIPTION:📅 September 23–24\, 2025\n📍 Husqvarna\, Sweden \nWIRA-SuPRA invites you to two inspiring event days focused on the theme:\n“AI in the Plastics Industry”. \nExplore how artificial intelligence is transforming product development\, boosting production efficiency\, and reshaping plastic flows in Sweden. Gain insights\, share ideas\, and connect with industry professionals in a dynamic and engaging setting. \n🧠 Topics include: \n\nSmarter product development with AI\nOptimizing production through AI\nPlastic material flows in Sweden\n…and much more!\n\n✨ Plenty of time for networking and mingling! \n🕛 The event kicks off with lunch on September 23 and wraps up with an exclusive factory tour at Husqvarna on the afternoon of September 24. \n📄 Please register here.
URL:https://wise-materials.org/calendar/save-the-date-ai-in-the-plastics-industry-join-us-at-husqvarna-2-2/
CATEGORIES:Public Events
END:VEVENT
END:VCALENDAR