BEGIN:VCALENDAR
VERSION:2.0
PRODID:-//WISE - ECPv6.15.20//NONSGML v1.0//EN
CALSCALE:GREGORIAN
METHOD:PUBLISH
X-WR-CALNAME:WISE
X-ORIGINAL-URL:https://wise-materials.org
X-WR-CALDESC:Events for WISE
REFRESH-INTERVAL;VALUE=DURATION:PT1H
X-Robots-Tag:noindex
X-PUBLISHED-TTL:PT1H
BEGIN:VTIMEZONE
TZID:Europe/Stockholm
BEGIN:DAYLIGHT
TZOFFSETFROM:+0100
TZOFFSETTO:+0200
TZNAME:CEST
DTSTART:20240331T010000
END:DAYLIGHT
BEGIN:STANDARD
TZOFFSETFROM:+0200
TZOFFSETTO:+0100
TZNAME:CET
DTSTART:20241027T010000
END:STANDARD
BEGIN:DAYLIGHT
TZOFFSETFROM:+0100
TZOFFSETTO:+0200
TZNAME:CEST
DTSTART:20250330T010000
END:DAYLIGHT
BEGIN:STANDARD
TZOFFSETFROM:+0200
TZOFFSETTO:+0100
TZNAME:CET
DTSTART:20251026T010000
END:STANDARD
BEGIN:DAYLIGHT
TZOFFSETFROM:+0100
TZOFFSETTO:+0200
TZNAME:CEST
DTSTART:20260329T010000
END:DAYLIGHT
BEGIN:STANDARD
TZOFFSETFROM:+0200
TZOFFSETTO:+0100
TZNAME:CET
DTSTART:20261025T010000
END:STANDARD
END:VTIMEZONE
BEGIN:VEVENT
DTSTART;TZID=Europe/Stockholm:20250610T080000
DTEND;TZID=Europe/Stockholm:20250611T170000
DTSTAMP:20260423T152917
CREATED:20250205T095401Z
LAST-MODIFIED:20250205T095401Z
UID:9117-1749542400-1749661200@wise-materials.org
SUMMARY:WIRA SuPRA: Save the Date: Nordic Composites Symposium – June 10-11
DESCRIPTION:Join us for the inaugural Nordic Composites Symposium\, hosted by Luleå University of Technology and the WISE Sustainable Polymer Research Arena (SuPRA). This event will bring together researchers\, industry leaders\, and students to explore the latest trends\, developments\, and challenges in composite materials. With keynote lectures\, industry presentations\, and PhD student sessions\, the symposium offers a valuable opportunity for networking and international collaboration. We look forward to seeing you in Piteå! \nMake sure to secure your spot today and be part of the conversation!
URL:https://wise-materials.org/calendar/wira-supra-save-the-date-nordic-composites-symposium-june-10-11/
LOCATION:Pite Havsbad\, Piteå
CATEGORIES:Public Events
END:VEVENT
END:VCALENDAR