BEGIN:VCALENDAR
VERSION:2.0
PRODID:-//WISE - ECPv6.15.20//NONSGML v1.0//EN
CALSCALE:GREGORIAN
METHOD:PUBLISH
X-ORIGINAL-URL:https://wise-materials.org
X-WR-CALDESC:Events for WISE
REFRESH-INTERVAL;VALUE=DURATION:PT1H
X-Robots-Tag:noindex
X-PUBLISHED-TTL:PT1H
BEGIN:VTIMEZONE
TZID:Europe/Stockholm
BEGIN:DAYLIGHT
TZOFFSETFROM:+0100
TZOFFSETTO:+0200
TZNAME:CEST
DTSTART:20240331T010000
END:DAYLIGHT
BEGIN:STANDARD
TZOFFSETFROM:+0200
TZOFFSETTO:+0100
TZNAME:CET
DTSTART:20241027T010000
END:STANDARD
BEGIN:DAYLIGHT
TZOFFSETFROM:+0100
TZOFFSETTO:+0200
TZNAME:CEST
DTSTART:20250330T010000
END:DAYLIGHT
BEGIN:STANDARD
TZOFFSETFROM:+0200
TZOFFSETTO:+0100
TZNAME:CET
DTSTART:20251026T010000
END:STANDARD
BEGIN:DAYLIGHT
TZOFFSETFROM:+0100
TZOFFSETTO:+0200
TZNAME:CEST
DTSTART:20260329T010000
END:DAYLIGHT
BEGIN:STANDARD
TZOFFSETFROM:+0200
TZOFFSETTO:+0100
TZNAME:CET
DTSTART:20261025T010000
END:STANDARD
END:VTIMEZONE
BEGIN:VEVENT
DTSTART;VALUE=DATE:20250212
DTEND;VALUE=DATE:20250213
DTSTAMP:20260423T220507
CREATED:20250212T125823Z
LAST-MODIFIED:20250212T125823Z
UID:9292-1739318400-1739404799@wise-materials.org
SUMMARY:WISE Board Meeting 2025-1
DESCRIPTION:
URL:https://wise-materials.org/calendar/wise-board-meeting-2025-1-2/
LOCATION:IVA konferenscenter\, Grev Turegatan 16\, Stockholm\, Sweden
CATEGORIES:Public Events
END:VEVENT
BEGIN:VEVENT
DTSTART;TZID=Europe/Stockholm:20250225T143000
DTEND;TZID=Europe/Stockholm:20250225T164500
DTSTAMP:20260423T220507
CREATED:20250205T094829Z
LAST-MODIFIED:20250205T094829Z
UID:9113-1740493800-1740501900@wise-materials.org
SUMMARY:WIRA SuPRA Workshop - Fiberkompositer i en cirkulär ekonomi
DESCRIPTION:Don’t miss this opportunity to explore the latest advancements in fiber composites and circular economy! Attend insightful talks from industry experts and discover how innovation is shaping a sustainable future. \nSecure your spot today and be part of the conversation!
URL:https://wise-materials.org/calendar/wira-supra-workshop-fiberkompositer-i-en-cirkular-ekonomi/
CATEGORIES:Public Events
END:VEVENT
END:VCALENDAR