BEGIN:VCALENDAR
VERSION:2.0
PRODID:-//WISE - ECPv6.15.20//NONSGML v1.0//EN
CALSCALE:GREGORIAN
METHOD:PUBLISH
X-WR-CALNAME:WISE
X-ORIGINAL-URL:https://wise-materials.org
X-WR-CALDESC:Events for WISE
REFRESH-INTERVAL;VALUE=DURATION:PT1H
X-Robots-Tag:noindex
X-PUBLISHED-TTL:PT1H
BEGIN:VTIMEZONE
TZID:Europe/Stockholm
BEGIN:DAYLIGHT
TZOFFSETFROM:+0100
TZOFFSETTO:+0200
TZNAME:CEST
DTSTART:20230326T010000
END:DAYLIGHT
BEGIN:STANDARD
TZOFFSETFROM:+0200
TZOFFSETTO:+0100
TZNAME:CET
DTSTART:20231029T010000
END:STANDARD
BEGIN:DAYLIGHT
TZOFFSETFROM:+0100
TZOFFSETTO:+0200
TZNAME:CEST
DTSTART:20240331T010000
END:DAYLIGHT
BEGIN:STANDARD
TZOFFSETFROM:+0200
TZOFFSETTO:+0100
TZNAME:CET
DTSTART:20241027T010000
END:STANDARD
BEGIN:DAYLIGHT
TZOFFSETFROM:+0100
TZOFFSETTO:+0200
TZNAME:CEST
DTSTART:20250330T010000
END:DAYLIGHT
BEGIN:STANDARD
TZOFFSETFROM:+0200
TZOFFSETTO:+0100
TZNAME:CET
DTSTART:20251026T010000
END:STANDARD
END:VTIMEZONE
BEGIN:VEVENT
DTSTART;TZID=Europe/Stockholm:20241115T080000
DTEND;TZID=Europe/Stockholm:20241115T170000
DTSTAMP:20260424T024506
CREATED:20240617T125315Z
LAST-MODIFIED:20240916T090131Z
UID:6835-1731657600-1731690000@wise-materials.org
SUMMARY:WISE Symposium  - Umeå University
DESCRIPTION:Digital event\nLudvig Edman will present a novel light-emission technology\, which can be fabricated by sustainable ambient-air printing. He will further show that an enabling factor for efficient light emission is the control of the constituent electrochemical doping processes for the attainment of a tuned p-n junction doping structure. \nThomas Wågberg will introduce a materials perspective on green hydrogen production. He will specifically present recent strategies for the replacement of critical raw materials in water electrolysis and advancements that lie around the corner in electrolysis technology. \nTopic\nGreen and Bright Technologies and Materials at Umeå University. \nDate\n15 November 2024\, at 13.00-14.00. \nSpeakers \n\nLudvig Edman\, Professor UmU: “Light-Emitting Electrochemical Cells:  Basic Understanding for Functional and Sustainable Devices”.\nThomas Wågberg\, Professor UmU: ”A materials perspective on green hydrogen production – state of the art and challenges”.\n\n\nPlease register here. \n 
URL:https://wise-materials.org/calendar/wise-symposium-umea-university-2/
CATEGORIES:Public Events
END:VEVENT
BEGIN:VEVENT
DTSTART;VALUE=DATE:20241121
DTEND;VALUE=DATE:20241122
DTSTAMP:20260424T024506
CREATED:20231117T073110Z
LAST-MODIFIED:20231117T073110Z
UID:4381-1732147200-1732233599@wise-materials.org
SUMMARY:WISE Board meeting 2024-6
DESCRIPTION:
URL:https://wise-materials.org/calendar/wise-board-meeting-2024-6-2/
LOCATION:IVA konferenscenter\, Grev Turegatan 16\, Stockholm\, Sweden
CATEGORIES:Public Events
END:VEVENT
END:VCALENDAR